BEGIN:VCALENDAR
VERSION:2.0
PRODID:-//hacksw/handcal//NONSGML v1.0//EN
BEGIN:VEVENT
SUMMARY:Match U11g2 Cadets de Bretagne3 -HBCC2
UID:b0dfbc25-a881-4afd-b52c-95a6f96675c3
DTSTART:20260502T100000Z
DTEND:20260502T123000Z
LOCATION:Localisation 139 RUE D'ANTRAIN 35000 RENNES
CATEGORIES:Sportif
STATUS:
DESCRIPTION:<p><strong>MATCH U11G2 CADETS DE BRETAGNE-HBCC2 a
 13H15</strong></p>
 
 <p><strong>Depart Fayelle:
 12h00</strong></p>
 
 <p><strong>Echauffement: 12h45</strong></p>
URL;VALUE=URI:https://www.hbcchateaubourg.com/evenements/2026/05/02/match-u11g2-cadets-de-bretagne3-hbcc2-2444610
END:VEVENT
END:VCALENDAR
