BEGIN:VCALENDAR
VERSION:2.0
PRODID:-//hacksw/handcal//NONSGML v1.0//EN
BEGIN:VEVENT
SUMMARY:HBCC 2 - HB DETENTE
UID:d555f1d9-4c0a-428c-80cd-bc9137b89b3c
DTSTART:20260430T181500Z
DTEND:20260430T210000Z
LOCATION:Salle Fayelle Complexe sportif du Prieure 35220 CHATEAUBOURG
CATEGORIES:Sportif
STATUS:
DESCRIPTION:<p>Rendez-vous a la salle a 20h15</p>
 
 <p>Match a
 21h15</p>
URL;VALUE=URI:https://www.hbcchateaubourg.com/evenements/2026/04/30/hbcc-2-hb-detente-2444630
END:VEVENT
END:VCALENDAR
