BEGIN:VCALENDAR
VERSION:2.0
PRODID:-//hacksw/handcal//NONSGML v1.0//EN
BEGIN:VEVENT
SUMMARY:porte de bretagne - Hbcc1
UID:4440037c-2561-4c19-8fb1-4b99e0bf06f4
DTSTART:20260429T173000Z
DTEND:20260429T203000Z
LOCATION:Localisation SALLE DES PROMENADES boulevard louis giroux 35500 vitre
CATEGORIES:Sportif
STATUS:
DESCRIPTION:<p>Match a 20h45 a Vitre.</p>
 
 <p>Rendez-vous a 19h30 a
 la salle. Rendez-vous a 20h a Vitre.</p>
URL;VALUE=URI:https://www.hbcchateaubourg.com/evenements/2026/04/29/porte-de-bretagne-hbcc1-2444628
END:VEVENT
END:VCALENDAR
